Workbook

Sheet Individual Points Summary
A1: 2026 Edmonton Harriers Cross-Country Series
A2: Athlete and School | B2: Total Points | C2: Rank in Points | D2: Races | E2: 3
A3: Grade 4 Girls
A4: Florence Peterson- (Laurier Heights) | B4: =SUMIF('Grade 4 Girls'!G:G, 'Individual Points Summary'!A4, 'Grade 4 Girls'!F:F) -> 5 | C4: =IF(D4 =E$2, RANK(B4, B$4:B$148, 1), "") -> 1 | D4: =COUNTIF('Grade 4 Girls'!G:G, 'Individual Points Summary'!A4) -> 3
A5: Beatrice Summers-F (Westglen) | B5: =SUMIF('Grade 4 Girls'!G:G, 'Individual Points Summary'!A5, 'Grade 4 Girls'!F:F) -> 12 | C5: =IF(D5 =E$2, RANK(B5, B$4:B$148, 1), "") -> 2 | D5: =COUNTIF('Grade 4 Girls'!G:G, 'Individual Points Summary'!A5) -> 3
A6: Keira Mather (Laurier Heights) | B6: =SUMIF('Grade 4 Girls'!G:G, 'Individual Points Summary'!A6, 'Grade 4 Girls'!F:F) -> 16 | C6: =IF(D6 =E$2, RANK(B6, B$4:B$148, 1), "") -> 3 | D6: =COUNTIF('Grade 4 Girls'!G:G, 'Individual Points Summary'!A6) -> 3
A7: Annika Banerjee (Mill Creek) | B7: =SUMIF('Grade 4 Girls'!G:G, 'Individual Points Summary'!A7, 'Grade 4 Girls'!F:F) -> 19 | C7: =IF(D7 =E$2, RANK(B7, B$4:B$148, 1), "") -> 4 | D7: =COUNTIF('Grade 4 Girls'!G:G, 'Individual Points Summary'!A7) -> 3
A8: Margaux Gibeau (Rio Terrace) | B8: =SUMIF('Grade 4 Girls'!G:G, 'Individual Points Summary'!A8, 'Grade 4 Girls'!F:F) -> 20 | C8: =IF(D8 =E$2, RANK(B8, B$4:B$148, 1), "") -> 5 | D8: =COUNTIF('Grade 4 Girls'!G:G, 'Individual Points Summary'!A8) -> 3
A9: Loretta Harcourt (Brander Gardens) | B9: =SUMIF('Grade 4 Girls'!G:G, 'Individual Points Summary'!A9, 'Grade 4 Girls'!F:F) -> 26 | C9: =IF(D9 =E$2, RANK(B9, B$4:B$148, 1), "") -> 6 | D9: =COUNTIF('Grade 4 Girls'!G:G, 'Individual Points Summary'!A9) -> 3
A10: Everly Blair (Roberta MacAdams) | B10: =SUMIF('Grade 4 Girls'!G:G, 'Individual Points Summary'!A10, 'Grade 4 Girls'!F:F) -> 28 | C10: =IF(D10 =E$2, RANK(B10, B$4:B$148, 1), "") -> 7 | D10: =COUNTIF('Grade 4 Girls'!G:G, 'Individual Points Summary'!A10) -> 3
A11: Norah Mior (Joey Moss) | B11: =SUMIF('Grade 4 Girls'!G:G, 'Individual Points Summary'!A11, 'Grade 4 Girls'!F:F) -> 39 | C11: =IF(D11 =E$2, RANK(B11, B$4:B$148, 1), "") -> 8 | D11: =COUNTIF('Grade 4 Girls'!G:G, 'Individual Points Summary'!A11) -> 3
A12: Kinley Prygodicz (Parkallen) | B12: =SUMIF('Grade 4 Girls'!G:G, 'Individual Points Summary'!A12, 'Grade 4 Girls'!F:F) -> 40 | C12: =IF(D12 =E$2, RANK(B12, B$4:B$148, 1), "") -> 9 | D12: =COUNTIF('Grade 4 Girls'!G:G, 'Individual Points Summary'!A12) -> 3
A13: Lyla Mullen (Westglen) | B13: =SUMIF('Grade 4 Girls'!G:G, 'Individual Points Summary'!A13, 'Grade 4 Girls'!F:F) -> 46 | C13: =IF(D13 =E$2, RANK(B13, B$4:B$148, 1), "") -> 10 | D13: =COUNTIF('Grade 4 Girls'!G:G, 'Individual Points Summary'!A13) -> 3
A14: Kiana Hu (Brookside) | B14: =SUMIF('Grade 4 Girls'!G:G, 'Individual Points Summary'!A14, 'Grade 4 Girls'!F:F) -> 49 | C14: =IF(D14 =E$2, RANK(B14, B$4:B$148, 1), "") -> 11 | D14: =COUNTIF('Grade 4 Girls'!G:G, 'Individual Points Summary'!A14) -> 3
A15: Ada Garnison (Earl Buxton) | B15: =SUMIF('Grade 4 Girls'!G:G, 'Individual Points Summary'!A15, 'Grade 4 Girls'!F:F) -> 52 | C15: =IF(D15 =E$2, RANK(B15, B$4:B$148, 1), "") -> 12 | D15: =COUNTIF('Grade 4 Girls'!G:G, 'Individual Points Summary'!A15) -> 3
... A394: Violet Hastings (Laurier Heights) | B394: =SUMIF('Grade 4 Girls'!G:G, 'Individual Points Summary'!A394, 'Grade 4 Girls'!F:F) -> 277 | C394: =IF(D394 =E$2, RANK(B394, B$4:B$148, 1), "") | D394: =COUNTIF('Grade 4 Girls'!G:G, 'Individual Points Summary'!A394) -> 1
A395: [Unhide rows above here to see the rest.]
A398: Grade 4 Boys
A399: Miles Petrosky (King Edward) | B399: =SUMIF('Grade 4 Boys'!G:G, 'Individual Points Summary'!A399, 'Grade 4 Boys'!F:F) -> 5 | C399: =IF(D399 =E$2, RANK(B399, B$399:B$572, 1), "") -> 1 | D399: =COUNTIF('Grade 4 Boys'!G:G, 'Individual Points Summary'!A399) -> 3
A400: Xavier Miller (Unattached) | B400: =SUMIF('Grade 4 Boys'!G:G, 'Individual Points Summary'!A400, 'Grade 4 Boys'!F:F) -> 9 | C400: =IF(D400 =E$2, RANK(B400, B$399:B$572, 1), "") -> 2 | D400: =COUNTIF('Grade 4 Boys'!G:G, 'Individual Points Summary'!A400) -> 3
A401: Benyamin Bandari (Aurora Charter) | B401: =SUMIF('Grade 4 Boys'!G:G, 'Individual Points Summary'!A401, 'Grade 4 Boys'!F:F) -> 20 | C401: =IF(D401 =E$2, RANK(B401, B$399:B$572, 1), "") -> 3 | D401: =COUNTIF('Grade 4 Boys'!G:G, 'Individual Points Summary'!A401) -> 3
A402: Sawyer Smulski (Patricia Heights) | B402: =SUMIF('Grade 4 Boys'!G:G, 'Individual Points Summary'!A402, 'Grade 4 Boys'!F:F) -> 21 | C402: =IF(D402 =E$2, RANK(B402, B$399:B$572, 1), "") -> 4 | D402: =COUNTIF('Grade 4 Boys'!G:G, 'Individual Points Summary'!A402) -> 3
A403: Nico Garza (Belgravia) | B403: =SUMIF('Grade 4 Boys'!G:G, 'Individual Points Summary'!A403, 'Grade 4 Boys'!F:F) -> 22 | C403: =IF(D403 =E$2, RANK(B403, B$399:B$572, 1), "") -> 5 | D403: =COUNTIF('Grade 4 Boys'!G:G, 'Individual Points Summary'!A403) -> 3
A404: Zach McEwan (George H. Luck) | B404: =SUMIF('Grade 4 Boys'!G:G, 'Individual Points Summary'!A404, 'Grade 4 Boys'!F:F) -> 22 | C404: =IF(D404 =E$2, RANK(B404, B$399:B$572, 1), "") -> 5 | D404: =COUNTIF('Grade 4 Boys'!G:G, 'Individual Points Summary'!A404) -> 3
A405: Wilder Vanravenswa (Forest Heights) | B405: =SUMIF('Grade 4 Boys'!G:G, 'Individual Points Summary'!A405, 'Grade 4 Boys'!F:F) -> 25 | C405: =IF(D405 =E$2, RANK(B405, B$399:B$572, 1), "") -> 7 | D405: =COUNTIF('Grade 4 Boys'!G:G, 'Individual Points Summary'!A405) -> 3
A406: Callum Franklin (Brander Gardens) | B406: =SUMIF('Grade 4 Boys'!G:G, 'Individual Points Summary'!A406, 'Grade 4 Boys'!F:F) -> 27 | C406: =IF(D406 =E$2, RANK(B406, B$399:B$572, 1), "") -> 8 | D406: =COUNTIF('Grade 4 Boys'!G:G, 'Individual Points Summary'!A406) -> 3
A407: Dane Terriff (Westbrook) | B407: =SUMIF('Grade 4 Boys'!G:G, 'Individual Points Summary'!A407, 'Grade 4 Boys'!F:F) -> 30 | C407: =IF(D407 =E$2, RANK(B407, B$399:B$572, 1), "") -> 9 | D407: =COUNTIF('Grade 4 Boys'!G:G, 'Individual Points Summary'!A407) -> 3
A408: Aaron Van Doesburg (Edmonton Chr) | B408: =SUMIF('Grade 4 Boys'!G:G, 'Individual Points Summary'!A408, 'Grade 4 Boys'!F:F) -> 50 | C408: =IF(D408 =E$2, RANK(B408, B$399:B$572, 1), "") -> 10 | D408: =COUNTIF('Grade 4 Boys'!G:G, 'Individual Points Summary'!A408) -> 3
A409: Jackson Ongom (Gabrielle Roy) | B409: =SUMIF('Grade 4 Boys'!G:G, 'Individual Points Summary'!A409, 'Grade 4 Boys'!F:F) -> 53 | C409: =IF(D409 =E$2, RANK(B409, B$399:B$572, 1), "") -> 11 | D409: =COUNTIF('Grade 4 Boys'!G:G, 'Individual Points Summary'!A409) -> 3
A410: Valentine Harcourt (Brander Gardens) | B410: =SUMIF('Grade 4 Boys'!G:G, 'Individual Points Summary'!A410, 'Grade 4 Boys'!F:F) -> 53 | C410: =IF(D410 =E$2, RANK(B410, B$399:B$572, 1), "") -> 11 | D410: =COUNTIF('Grade 4 Boys'!G:G, 'Individual Points Summary'!A410) -> 3
... A841: Derek Horn (Michael A. Kostek) | B841: =SUMIF('Grade 4 Boys'!G:G, 'Individual Points Summary'!A841, 'Grade 4 Boys'!F:F) -> 315 | C841: =IF(D841 =E$2, RANK(B841, B$399:B$572, 1), "") | D841: =COUNTIF('Grade 4 Boys'!G:G, 'Individual Points Summary'!A841) -> 1
A842: [Unhide rows above here to see the rest.]
A845: Grade 5 Girls
A846: Madison Carson (Roberta MacAdams) | B846: =SUMIF('Grade 5 Girls'!G:G, 'Individual Points Summary'!A846, 'Grade 5 Girls'!F:F) -> 5 | C846: =IF(D846 =E$2, RANK(B846, B$846:B$968, 1), "") -> 1 | D846: =COUNTIF('Grade 5 Girls'!G:G, 'Individual Points Summary'!A846) -> 3
A847: Ines Monterrosa (Mill Creek) | B847: =SUMIF('Grade 5 Girls'!G:G, 'Individual Points Summary'!A847, 'Grade 5 Girls'!F:F) -> 7 | C847: =IF(D847 =E$2, RANK(B847, B$846:B$968, 1), "") -> 2 | D847: =COUNTIF('Grade 5 Girls'!G:G, 'Individual Points Summary'!A847) -> 3
A848: Kiori Uhrig (Notre Dame Edmonton) | B848: =SUMIF('Grade 5 Girls'!G:G, 'Individual Points Summary'!A848, 'Grade 5 Girls'!F:F) -> 11 | C848: =IF(D848 =E$2, RANK(B848, B$846:B$968, 1), "") -> 3 | D848: =COUNTIF('Grade 5 Girls'!G:G, 'Individual Points Summary'!A848) -> 3
A849: Diana Parkhomenka (OurLadyPerpetual) | B849: =SUMIF('Grade 5 Girls'!G:G, 'Individual Points Summary'!A849, 'Grade 5 Girls'!F:F) -> 18 | C849: =IF(D849 =E$2, RANK(B849, B$846:B$968, 1), "") -> 4 | D849: =COUNTIF('Grade 5 Girls'!G:G, 'Individual Points Summary'!A849) -> 3
A850: Hana Krantz (Laurier Heights) | B850: =SUMIF('Grade 5 Girls'!G:G, 'Individual Points Summary'!A850, 'Grade 5 Girls'!F:F) -> 18 | C850: =IF(D850 =E$2, RANK(B850, B$846:B$968, 1), "") -> 4 | D850: =COUNTIF('Grade 5 Girls'!G:G, 'Individual Points Summary'!A850) -> 3
A851: Bridget Austrom (Brander Gardens) | B851: =SUMIF('Grade 5 Girls'!G:G, 'Individual Points Summary'!A851, 'Grade 5 Girls'!F:F) -> 26 | C851: =IF(D851 =E$2, RANK(B851, B$846:B$968, 1), "") -> 6 | D851: =COUNTIF('Grade 5 Girls'!G:G, 'Individual Points Summary'!A851) -> 3
A852: Hadley Bruveris (Holyrood) | B852: =SUMIF('Grade 5 Girls'!G:G, 'Individual Points Summary'!A852, 'Grade 5 Girls'!F:F) -> 27 | C852: =IF(D852 =E$2, RANK(B852, B$846:B$968, 1), "") -> 7 | D852: =COUNTIF('Grade 5 Girls'!G:G, 'Individual Points Summary'!A852) -> 3
A853: Ava Bayat (Windsor Park) | B853: =SUMIF('Grade 5 Girls'!G:G, 'Individual Points Summary'!A853, 'Grade 5 Girls'!F:F) -> 31 | C853: =IF(D853 =E$2, RANK(B853, B$846:B$968, 1), "") -> 8 | D853: =COUNTIF('Grade 5 Girls'!G:G, 'Individual Points Summary'!A853) -> 3
A854: Ayla Shapka (Laurier Heights) | B854: =SUMIF('Grade 5 Girls'!G:G, 'Individual Points Summary'!A854, 'Grade 5 Girls'!F:F) -> 34 | C854: =IF(D854 =E$2, RANK(B854, B$846:B$968, 1), "") -> 9 | D854: =COUNTIF('Grade 5 Girls'!G:G, 'Individual Points Summary'!A854) -> 3
A855: Ena Brosda (Earl Buxton) | B855: =SUMIF('Grade 5 Girls'!G:G, 'Individual Points Summary'!A855, 'Grade 5 Girls'!F:F) -> 42 | C855: =IF(D855 =E$2, RANK(B855, B$846:B$968, 1), "") -> 10 | D855: =COUNTIF('Grade 5 Girls'!G:G, 'Individual Points Summary'!A855) -> 3
A856: Kiana Dehghanpour (Windsor Park) | B856: =SUMIF('Grade 5 Girls'!G:G, 'Individual Points Summary'!A856, 'Grade 5 Girls'!F:F) -> 44 | C856: =IF(D856 =E$2, RANK(B856, B$846:B$968, 1), "") -> 11 | D856: =COUNTIF('Grade 5 Girls'!G:G, 'Individual Points Summary'!A856) -> 3
A857: Lexi Wagontall (Johnny Bright) | B857: =SUMIF('Grade 5 Girls'!G:G, 'Individual Points Summary'!A857, 'Grade 5 Girls'!F:F) -> 47 | C857: =IF(D857 =E$2, RANK(B857, B$846:B$968, 1), "") -> 12 | D857: =COUNTIF('Grade 5 Girls'!G:G, 'Individual Points Summary'!A857) -> 3
... A1194: Sana Al Mohamad (Lorelei) | B1194: =SUMIF('Grade 5 Girls'!G:G, 'Individual Points Summary'!A1194, 'Grade 5 Girls'!F:F) -> 251 | C1194: =IF(D1194 =E$2, RANK(B1194, B$846:B$968, 1), "") | D1194: =COUNTIF('Grade 5 Girls'!G:G, 'Individual Points Summary'!A1194) -> 1
A1195: [Unhide rows above here to see the rest.]
A1198: Grade 5 Boys
A1199: Walker Yonge (Belgravia) | B1199: =SUMIF('Grade 5 Boys'!G:G, 'Individual Points Summary'!A1199, 'Grade 5 Boys'!F:F) -> 3 | C1199: =IF(D1199 =E$2, RANK(B1199, B$1199:B$1319, 1), "") -> 1 | D1199: =COUNTIF('Grade 5 Boys'!G:G, 'Individual Points Summary'!A1199) -> 3
A1200: Seb Wolfi (Brander Gardens) | B1200: =SUMIF('Grade 5 Boys'!G:G, 'Individual Points Summary'!A1200, 'Grade 5 Boys'!F:F) -> 8 | C1200: =IF(D1200 =E$2, RANK(B1200, B$1199:B$1319, 1), "") -> 2 | D1200: =COUNTIF('Grade 5 Boys'!G:G, 'Individual Points Summary'!A1200) -> 3
A1201: Gavin Salmon (Michael A. Kostek) | B1201: =SUMIF('Grade 5 Boys'!G:G, 'Individual Points Summary'!A1201, 'Grade 5 Boys'!F:F) -> 18 | C1201: =IF(D1201 =E$2, RANK(B1201, B$1199:B$1319, 1), "") -> 3 | D1201: =COUNTIF('Grade 5 Boys'!G:G, 'Individual Points Summary'!A1201) -> 3
A1202: Levon Phelan (Holyrood) | B1202: =SUMIF('Grade 5 Boys'!G:G, 'Individual Points Summary'!A1202, 'Grade 5 Boys'!F:F) -> 25 | C1202: =IF(D1202 =E$2, RANK(B1202, B$1199:B$1319, 1), "") -> 4 | D1202: =COUNTIF('Grade 5 Boys'!G:G, 'Individual Points Summary'!A1202) -> 3
A1203: Teddy Holmes (Donnan) | B1203: =SUMIF('Grade 5 Boys'!G:G, 'Individual Points Summary'!A1203, 'Grade 5 Boys'!F:F) -> 26 | C1203: =IF(D1203 =E$2, RANK(B1203, B$1199:B$1319, 1), "") -> 5 | D1203: =COUNTIF('Grade 5 Boys'!G:G, 'Individual Points Summary'!A1203) -> 3
A1204: Casey Paulsen (Patricia Heights) | B1204: =SUMIF('Grade 5 Boys'!G:G, 'Individual Points Summary'!A1204, 'Grade 5 Boys'!F:F) -> 35 | C1204: =IF(D1204 =E$2, RANK(B1204, B$1199:B$1319, 1), "") -> 6 | D1204: =COUNTIF('Grade 5 Boys'!G:G, 'Individual Points Summary'!A1204) -> 3
A1205: Cohen Benoza (Holyrood) | B1205: =SUMIF('Grade 5 Boys'!G:G, 'Individual Points Summary'!A1205, 'Grade 5 Boys'!F:F) -> 38 | C1205: =IF(D1205 =E$2, RANK(B1205, B$1199:B$1319, 1), "") -> 7 | D1205: =COUNTIF('Grade 5 Boys'!G:G, 'Individual Points Summary'!A1205) -> 3
A1206: Caellum Amenu-Teka (George P. Nicholson) | B1206: =SUMIF('Grade 5 Boys'!G:G, 'Individual Points Summary'!A1206, 'Grade 5 Boys'!F:F) -> 50 | C1206: =IF(D1206 =E$2, RANK(B1206, B$1199:B$1319, 1), "") -> 8 | D1206: =COUNTIF('Grade 5 Boys'!G:G, 'Individual Points Summary'!A1206) -> 3
A1207: Connor Davidson (Johnny Bright) | B1207: =SUMIF('Grade 5 Boys'!G:G, 'Individual Points Summary'!A1207, 'Grade 5 Boys'!F:F) -> 51 | C1207: =IF(D1207 =E$2, RANK(B1207, B$1199:B$1319, 1), "") -> 9 | D1207: =COUNTIF('Grade 5 Boys'!G:G, 'Individual Points Summary'!A1207) -> 3
A1208: Alex Qiu-Laliberte (Parkallen) | B1208: =SUMIF('Grade 5 Boys'!G:G, 'Individual Points Summary'!A1208, 'Grade 5 Boys'!F:F) -> 53 | C1208: =IF(D1208 =E$2, RANK(B1208, B$1199:B$1319, 1), "") -> 10 | D1208: =COUNTIF('Grade 5 Boys'!G:G, 'Individual Points Summary'!A1208) -> 3
A1209: Fynn Burrows (Patricia Heights) | B1209: =SUMIF('Grade 5 Boys'!G:G, 'Individual Points Summary'!A1209, 'Grade 5 Boys'!F:F) -> 54 | C1209: =IF(D1209 =E$2, RANK(B1209, B$1199:B$1319, 1), "") -> 11 | D1209: =COUNTIF('Grade 5 Boys'!G:G, 'Individual Points Summary'!A1209) -> 3
A1210: Remi Gravel (Brander Gardens) | B1210: =SUMIF('Grade 5 Boys'!G:G, 'Individual Points Summary'!A1210, 'Grade 5 Boys'!F:F) -> 54 | C1210: =IF(D1210 =E$2, RANK(B1210, B$1199:B$1319, 1), "") -> 11 | D1210: =COUNTIF('Grade 5 Boys'!G:G, 'Individual Points Summary'!A1210) -> 3
... A1536: Cash Fraser (Callingwood) | B1536: =SUMIF('Grade 5 Boys'!G:G, 'Individual Points Summary'!A1536, 'Grade 5 Boys'!F:F) -> 242 | C1536: =IF(D1536 =E$2, RANK(B1536, B$1199:B$1319, 1), "") | D1536: =COUNTIF('Grade 5 Boys'!G:G, 'Individual Points Summary'!A1536) -> 1
A1537: [Unhide rows above here to see the rest.]
A1540: Grade 6 Girls
A1541: Petra Woosley (Crestwood) | B1541: =SUMIF('Grade 6 Girls'!G:G, 'Individual Points Summary'!A1541, 'Grade 6 Girls'!F:F) -> 7 | C1541: =IF(D1541 =E$2, RANK(B1541, B$1541:B$1656, 1), "") -> 1 | D1541: =COUNTIF('Grade 6 Girls'!G:G, 'Individual Points Summary'!A1541) -> 3
A1542: Ella Ayon (Centennial) | B1542: =SUMIF('Grade 6 Girls'!G:G, 'Individual Points Summary'!A1542, 'Grade 6 Girls'!F:F) -> 11 | C1542: =IF(D1542 =E$2, RANK(B1542, B$1541:B$1656, 1), "") -> 2 | D1542: =COUNTIF('Grade 6 Girls'!G:G, 'Individual Points Summary'!A1542) -> 3
A1543: Zoe Ferris (Centennial) | B1543: =SUMIF('Grade 6 Girls'!G:G, 'Individual Points Summary'!A1543, 'Grade 6 Girls'!F:F) -> 12 | C1543: =IF(D1543 =E$2, RANK(B1543, B$1541:B$1656, 1), "") -> 3 | D1543: =COUNTIF('Grade 6 Girls'!G:G, 'Individual Points Summary'!A1543) -> 3
A1544: Sahaj Kharoud (George P. Nicholson) | B1544: =SUMIF('Grade 6 Girls'!G:G, 'Individual Points Summary'!A1544, 'Grade 6 Girls'!F:F) -> 15 | C1544: =IF(D1544 =E$2, RANK(B1544, B$1541:B$1656, 1), "") -> 4 | D1544: =COUNTIF('Grade 6 Girls'!G:G, 'Individual Points Summary'!A1544) -> 3
A1545: Lynsey Lysak (Crawford Plains) | B1545: =SUMIF('Grade 6 Girls'!G:G, 'Individual Points Summary'!A1545, 'Grade 6 Girls'!F:F) -> 18 | C1545: =IF(D1545 =E$2, RANK(B1545, B$1541:B$1656, 1), "") -> 5 | D1545: =COUNTIF('Grade 6 Girls'!G:G, 'Individual Points Summary'!A1545) -> 3
A1546: Julia Panchuk (Donnan) | B1546: =SUMIF('Grade 6 Girls'!G:G, 'Individual Points Summary'!A1546, 'Grade 6 Girls'!F:F) -> 19 | C1546: =IF(D1546 =E$2, RANK(B1546, B$1541:B$1656, 1), "") -> 6 | D1546: =COUNTIF('Grade 6 Girls'!G:G, 'Individual Points Summary'!A1546) -> 3
A1547: Collins Zieba (Michael A. Kostek) | B1547: =SUMIF('Grade 6 Girls'!G:G, 'Individual Points Summary'!A1547, 'Grade 6 Girls'!F:F) -> 25 | C1547: =IF(D1547 =E$2, RANK(B1547, B$1541:B$1656, 1), "") -> 7 | D1547: =COUNTIF('Grade 6 Girls'!G:G, 'Individual Points Summary'!A1547) -> 3
A1548: Kiera Cody (Holyrood) | B1548: =SUMIF('Grade 6 Girls'!G:G, 'Individual Points Summary'!A1548, 'Grade 6 Girls'!F:F) -> 30 | C1548: =IF(D1548 =E$2, RANK(B1548, B$1541:B$1656, 1), "") -> 8 | D1548: =COUNTIF('Grade 6 Girls'!G:G, 'Individual Points Summary'!A1548) -> 3
A1549: Paisley Clark (Centennial) | B1549: =SUMIF('Grade 6 Girls'!G:G, 'Individual Points Summary'!A1549, 'Grade 6 Girls'!F:F) -> 35 | C1549: =IF(D1549 =E$2, RANK(B1549, B$1541:B$1656, 1), "") -> 9 | D1549: =COUNTIF('Grade 6 Girls'!G:G, 'Individual Points Summary'!A1549) -> 3
A1550: Sadie Zarowny (George H. Luck) | B1550: =SUMIF('Grade 6 Girls'!G:G, 'Individual Points Summary'!A1550, 'Grade 6 Girls'!F:F) -> 38 | C1550: =IF(D1550 =E$2, RANK(B1550, B$1541:B$1656, 1), "") -> 10 | D1550: =COUNTIF('Grade 6 Girls'!G:G, 'Individual Points Summary'!A1550) -> 3
A1551: Emma VanWieren (Edmonton Chr) | B1551: =SUMIF('Grade 6 Girls'!G:G, 'Individual Points Summary'!A1551, 'Grade 6 Girls'!F:F) -> 39 | C1551: =IF(D1551 =E$2, RANK(B1551, B$1541:B$1656, 1), "") -> 11 | D1551: =COUNTIF('Grade 6 Girls'!G:G, 'Individual Points Summary'!A1551) -> 3
A1552: Ava Block (Centennial) | B1552: =SUMIF('Grade 6 Girls'!G:G, 'Individual Points Summary'!A1552, 'Grade 6 Girls'!F:F) -> 46 | C1552: =IF(D1552 =E$2, RANK(B1552, B$1541:B$1656, 1), "") -> 12 | D1552: =COUNTIF('Grade 6 Girls'!G:G, 'Individual Points Summary'!A1552) -> 3
... A1827: Freedom Thomas (Winterburn) | B1827: =SUMIF('Grade 6 Girls'!G:G, 'Individual Points Summary'!A1827, 'Grade 6 Girls'!F:F) -> 208 | C1827: =IF(D1827 =E$2, RANK(B1827, B$1541:B$1656, 1), "") | D1827: =COUNTIF('Grade 6 Girls'!G:G, 'Individual Points Summary'!A1827) -> 1
A1828: [Unhide rows above here to see the rest.]
A1831: Grade 6 Boys
A1832: Baxter Fowler (George H. Luck) | B1832: =SUMIF('Grade 6 Boys'!G:G, 'Individual Points Summary'!A1832, 'Grade 6 Boys'!F:F) -> 3 | C1832: =IF(D1832 =E$2, RANK(B1832, B$1832:B$1949, 1), "") -> 1 | D1832: =COUNTIF('Grade 6 Boys'!G:G, 'Individual Points Summary'!A1832) -> 3
A1833: Wes de Waal (Unattached) | B1833: =SUMIF('Grade 6 Boys'!G:G, 'Individual Points Summary'!A1833, 'Grade 6 Boys'!F:F) -> 6 | C1833: =IF(D1833 =E$2, RANK(B1833, B$1832:B$1949, 1), "") -> 2 | D1833: =COUNTIF('Grade 6 Boys'!G:G, 'Individual Points Summary'!A1833) -> 3
A1834: Ben Newton (Patricia Heights) | B1834: =SUMIF('Grade 6 Boys'!G:G, 'Individual Points Summary'!A1834, 'Grade 6 Boys'!F:F) -> 9 | C1834: =IF(D1834 =E$2, RANK(B1834, B$1832:B$1949, 1), "") -> 3 | D1834: =COUNTIF('Grade 6 Boys'!G:G, 'Individual Points Summary'!A1834) -> 3
A1835: Jack Mather (Laurier Heights) | B1835: =SUMIF('Grade 6 Boys'!G:G, 'Individual Points Summary'!A1835, 'Grade 6 Boys'!F:F) -> 16 | C1835: =IF(D1835 =E$2, RANK(B1835, B$1832:B$1949, 1), "") -> 4 | D1835: =COUNTIF('Grade 6 Boys'!G:G, 'Individual Points Summary'!A1835) -> 3
A1836: Riley Kautz (Johnny Bright) | B1836: =SUMIF('Grade 6 Boys'!G:G, 'Individual Points Summary'!A1836, 'Grade 6 Boys'!F:F) -> 16 | C1836: =IF(D1836 =E$2, RANK(B1836, B$1832:B$1949, 1), "") -> 4 | D1836: =COUNTIF('Grade 6 Boys'!G:G, 'Individual Points Summary'!A1836) -> 3
A1837: Joel Blair (Roberta MacAdams) | B1837: =SUMIF('Grade 6 Boys'!G:G, 'Individual Points Summary'!A1837, 'Grade 6 Boys'!F:F) -> 27 | C1837: =IF(D1837 =E$2, RANK(B1837, B$1832:B$1949, 1), "") -> 6 | D1837: =COUNTIF('Grade 6 Boys'!G:G, 'Individual Points Summary'!A1837) -> 3
A1838: Sahib Kharoud (George P. Nicholson) | B1838: =SUMIF('Grade 6 Boys'!G:G, 'Individual Points Summary'!A1838, 'Grade 6 Boys'!F:F) -> 29 | C1838: =IF(D1838 =E$2, RANK(B1838, B$1832:B$1949, 1), "") -> 7 | D1838: =COUNTIF('Grade 6 Boys'!G:G, 'Individual Points Summary'!A1838) -> 3
A1839: Alessio Bit (Crestwood) | B1839: =SUMIF('Grade 6 Boys'!G:G, 'Individual Points Summary'!A1839, 'Grade 6 Boys'!F:F) -> 33 | C1839: =IF(D1839 =E$2, RANK(B1839, B$1832:B$1949, 1), "") -> 8 | D1839: =COUNTIF('Grade 6 Boys'!G:G, 'Individual Points Summary'!A1839) -> 3
A1840: Deacon McEwan (George P. Nicholson) | B1840: =SUMIF('Grade 6 Boys'!G:G, 'Individual Points Summary'!A1840, 'Grade 6 Boys'!F:F) -> 33 | C1840: =IF(D1840 =E$2, RANK(B1840, B$1832:B$1949, 1), "") -> 8 | D1840: =COUNTIF('Grade 6 Boys'!G:G, 'Individual Points Summary'!A1840) -> 3
A1841: Elroi Abralhey (Aurora Charter) | B1841: =SUMIF('Grade 6 Boys'!G:G, 'Individual Points Summary'!A1841, 'Grade 6 Boys'!F:F) -> 55 | C1841: =IF(D1841 =E$2, RANK(B1841, B$1832:B$1949, 1), "") -> 10 | D1841: =COUNTIF('Grade 6 Boys'!G:G, 'Individual Points Summary'!A1841) -> 3
A1842: Patrick Dean (Crestwood) | B1842: =SUMIF('Grade 6 Boys'!G:G, 'Individual Points Summary'!A1842, 'Grade 6 Boys'!F:F) -> 58 | C1842: =IF(D1842 =E$2, RANK(B1842, B$1832:B$1949, 1), "") -> 11 | D1842: =COUNTIF('Grade 6 Boys'!G:G, 'Individual Points Summary'!A1842) -> 3
A1843: Jaxson Presisniuk (Donnan) | B1843: =SUMIF('Grade 6 Boys'!G:G, 'Individual Points Summary'!A1843, 'Grade 6 Boys'!F:F) -> 61 | C1843: =IF(D1843 =E$2, RANK(B1843, B$1832:B$1949, 1), "") -> 12 | D1843: =COUNTIF('Grade 6 Boys'!G:G, 'Individual Points Summary'!A1843) -> 3
... A1949: Mohamed Ahmed (John A. McDougall) | B1949: =SUMIF('Grade 6 Boys'!G:G, 'Individual Points Summary'!A1949, 'Grade 6 Boys'!F:F) -> 547 | C1949: =IF(D1949 =E$2, RANK(B1949, B$1832:B$1949, 1), "") -> 117 | D1949: =COUNTIF('Grade 6 Boys'!G:G, 'Individual Points Summary'!A1949) -> 3
A1950: Isaac Ogbay (Wîhkwêntôwin) | B1950: =SUMIF('Grade 6 Boys'!G:G, 'Individual Points Summary'!A1950, 'Grade 6 Boys'!F:F) -> 12 | C1950: =IF(D1950 =E$2, RANK(B1950, B$1832:B$1909, 1), "") | D1950: =COUNTIF('Grade 6 Boys'!G:G, 'Individual Points Summary'!A1950) -> 2
A1951: Wyatt Zarowny (Donnan) | B1951: =SUMIF('Grade 6 Boys'!G:G, 'Individual Points Summary'!A1951, 'Grade 6 Boys'!F:F) -> 13 | C1951: =IF(D1951 =E$2, RANK(B1951, B$1832:B$1909, 1), "") | D1951: =COUNTIF('Grade 6 Boys'!G:G, 'Individual Points Summary'!A1951) -> 2
A1952: Cohen Turgeon (Brookside) | B1952: =SUMIF('Grade 6 Boys'!G:G, 'Individual Points Summary'!A1952, 'Grade 6 Boys'!F:F) -> 15 | C1952: =IF(D1952 =E$2, RANK(B1952, B$1832:B$1909, 1), "") | D1952: =COUNTIF('Grade 6 Boys'!G:G, 'Individual Points Summary'!A1952) -> 2
A1953: Ruairi Lennox (Virginia Park) | B1953: =SUMIF('Grade 6 Boys'!G:G, 'Individual Points Summary'!A1953, 'Grade 6 Boys'!F:F) -> 22 | C1953: =IF(D1953 =E$2, RANK(B1953, B$1832:B$1909, 1), "") | D1953: =COUNTIF('Grade 6 Boys'!G:G, 'Individual Points Summary'!A1953) -> 2
A1954: Tyson Brennan (Steinhauer) | B1954: =SUMIF('Grade 6 Boys'!G:G, 'Individual Points Summary'!A1954, 'Grade 6 Boys'!F:F) -> 28 | C1954: =IF(D1954 =E$2, RANK(B1954, B$1832:B$1909, 1), "") | D1954: =COUNTIF('Grade 6 Boys'!G:G, 'Individual Points Summary'!A1954) -> 2
A1955: Greyson Jarock (George P. Nicholson) | B1955: =SUMIF('Grade 6 Boys'!G:G, 'Individual Points Summary'!A1955, 'Grade 6 Boys'!F:F) -> 40 | C1955: =IF(D1955 =E$2, RANK(B1955, B$1832:B$1909, 1), "") | D1955: =COUNTIF('Grade 6 Boys'!G:G, 'Individual Points Summary'!A1955) -> 2
A1956: Seif Osman (Michael A. Kostek) | B1956: =SUMIF('Grade 6 Boys'!G:G, 'Individual Points Summary'!A1956, 'Grade 6 Boys'!F:F) -> 40 | C1956: =IF(D1956 =E$2, RANK(B1956, B$1832:B$1909, 1), "") | D1956: =COUNTIF('Grade 6 Boys'!G:G, 'Individual Points Summary'!A1956) -> 2
A1957: Joshua Bentum (Edmonton Chr) | B1957: =SUMIF('Grade 6 Boys'!G:G, 'Individual Points Summary'!A1957, 'Grade 6 Boys'!F:F) -> 44 | C1957: =IF(D1957 =E$2, RANK(B1957, B$1832:B$1909, 1), "") | D1957: =COUNTIF('Grade 6 Boys'!G:G, 'Individual Points Summary'!A1957) -> 2
A1958: Teller Staszak (Lynnwood) | B1958: =SUMIF('Grade 6 Boys'!G:G, 'Individual Points Summary'!A1958, 'Grade 6 Boys'!F:F) -> 45 | C1958: =IF(D1958 =E$2, RANK(B1958, B$1832:B$1909, 1), "") | D1958: =COUNTIF('Grade 6 Boys'!G:G, 'Individual Points Summary'!A1958) -> 2
...

Sheet Grade 4 Girls
A1: 2026 Edmonton Harriers Cross-Country Series
A2: Rank in Place | B2: Name | C2: Grade | D2: Team | E2: Time | F2: Points | G2: Athlete-School
A3: Mill Woods Park (September 16) -- Grade 4 Girls 1800m
A4: 1 | B4: Elliot Guay | C4: 4 | D4: Edmonton Chr | E4: 7:48.58 | F4: 1 | G4: =CONCATENATE(B4, " (", D4, ")") -> Elliot Guay (Edmonton Chr)
A5: 2 | B5: Florence Peterson- | C5: 4 | D5: Laurier Heights | E5: 8:07.12 | F5: 2 | G5: =CONCATENATE(B5, " (", D5, ")") -> Florence Peterson- (Laurier Heights)
A6: 3 | B6: Keira Mather | C6: 4 | D6: Laurier Heights | E6: 8:07.32 | F6: 3 | G6: =CONCATENATE(B6, " (", D6, ")") -> Keira Mather (Laurier Heights)
A7: 4 | B7: Beatrice Summers-F | C7: 4 | D7: Westglen | E7: 8:11.82 | F7: 4 | G7: =CONCATENATE(B7, " (", D7, ")") -> Beatrice Summers-F (Westglen)
A8: 5 | B8: Annika Banerjee | C8: 4 | D8: Mill Creek | E8: 8:14.02 | F8: 5 | G8: =CONCATENATE(B8, " (", D8, ")") -> Annika Banerjee (Mill Creek)
A9: 6 | B9: Kaia Wheeler | C9: 4 | D9: Laurier Heights | E9: 8:17.48 | F9: 6 | G9: =CONCATENATE(B9, " (", D9, ")") -> Kaia Wheeler (Laurier Heights)
A10: 7 | B10: Margaux Gibeau | C10: 4 | D10: Rio Terrace | E10: 8:21.52 | F10: 7 | G10: =CONCATENATE(B10, " (", D10, ")") -> Margaux Gibeau (Rio Terrace)
A11: 8 | B11: Vada Rix | C11: 4 | D11: Michael A. Kostek | E11: 8:41.23 | F11: 8 | G11: =CONCATENATE(B11, " (", D11, ")") -> Vada Rix (Michael A. Kostek)
A12: 9 | B12: Everly Blair | C12: 4 | D12: Roberta MacAdams | E12: 8:41.87 | F12: 9 | G12: =CONCATENATE(B12, " (", D12, ")") -> Everly Blair (Roberta MacAdams)
A13: 10 | B13: Hailey Hoyda | C13: 4 | D13: Unattached | E13: 8:45.81 | F13: 10 | G13: =CONCATENATE(B13, " (", D13, ")") -> Hailey Hoyda (Unattached)
A14: 11 | B14: Madeline Norton | C14: 4 | D14: Laurier Heights | E14: 8:47.55 | F14: 11 | G14: =CONCATENATE(B14, " (", D14, ")") -> Madeline Norton (Laurier Heights)
A15: 12 | B15: Norah Mior | C15: 4 | D15: Joey Moss | E15: 8:51.98 | F15: 12 | G15: =CONCATENATE(B15, " (", D15, ")") -> Norah Mior (Joey Moss)
... A282: 279 | B282: Blair Boechler | C282: 4 | D282: Mayfield | E282: 17:29.34 | F282: 279 | G282: =CONCATENATE(B282, " (", D282, ")") -> Blair Boechler (Mayfield)
A285: Rundle Park (September 23) -- Grade 4 Girls 2100m
A286: 1 | B286: Joelle Downing | C286: 4 | D286: LaPerle | E286: 9:18.37 | F286: 1 | G286: =CONCATENATE(B286, " (", D286, ")") -> Joelle Downing (LaPerle)
A287: 2 | B287: Florence Peterson- | C287: 4 | D287: Laurier Heights | E287: 9:26.86 | F287: 2 | G287: =CONCATENATE(B287, " (", D287, ")") -> Florence Peterson- (Laurier Heights)
A288: 3 | B288: Beatrice Summers-F | C288: 4 | D288: Westglen | E288: 9:28.24 | F288: 3 | G288: =CONCATENATE(B288, " (", D288, ")") -> Beatrice Summers-F (Westglen)
A289: 4 | B289: Loretta Harcourt | C289: 4 | D289: Brander Gardens | E289: 9:36.68 | F289: 4 | G289: =CONCATENATE(B289, " (", D289, ")") -> Loretta Harcourt (Brander Gardens)
A290: 5 | B290: Keira Mather | C290: 4 | D290: Laurier Heights | E290: 9:37.21 | F290: 5 | G290: =CONCATENATE(B290, " (", D290, ")") -> Keira Mather (Laurier Heights)
A291: 6 | B291: Laki Ahmed | C291: 4 | D291: Homesteader | E291: 9:45.03 | F291: 6 | G291: =CONCATENATE(B291, " (", D291, ")") -> Laki Ahmed (Homesteader)
A292: 7 | B292: Everly Blair | C292: 4 | D292: Roberta MacAdams | E292: 9:49.59 | F292: 7 | G292: =CONCATENATE(B292, " (", D292, ")") -> Everly Blair (Roberta MacAdams)
A293: 8 | B293: Annika Banerjee | C293: 4 | D293: Mill Creek | E293: 9:53.63 | F293: 8 | G293: =CONCATENATE(B293, " (", D293, ")") -> Annika Banerjee (Mill Creek)
A294: 9 | B294: Margaux Gibeau | C294: 4 | D294: Rio Terrace | E294: 10:00.75 | F294: 9 | G294: =CONCATENATE(B294, " (", D294, ")") -> Margaux Gibeau (Rio Terrace)
A295: 10 | B295: Lyla Mullen | C295: 4 | D295: Westglen | E295: 10:04.58 | F295: 10 | G295: =CONCATENATE(B295, " (", D295, ")") -> Lyla Mullen (Westglen)
A296: 11 | B296: Everyly Leighman | C296: 4 | D296: Patricia Heights | E296: 10:05.02 | F296: 11 | G296: =CONCATENATE(B296, " (", D296, ")") -> Everyly Leighman (Patricia Heights)
A297: 12 | B297: Kaia Wheeler | C297: 4 | D297: Laurier Heights | E297: 10:05.68 | F297: 12 | G297: =CONCATENATE(B297, " (", D297, ")") -> Kaia Wheeler (Laurier Heights)
... A513: 228 | B513: Blair Boechler | C513: 4 | D513: Mayfield | E513: 21:30.00 | F513: 228 | G513: =CONCATENATE(B513, " (", D513, ")") -> Blair Boechler (Mayfield)
A516: Terwillegar Park (September 29) -- Grade 4 Girls 2000m
A517: 1 | B517: Florence Peterson- | C517: 4 | D517: Laurier Heights | E517: 9:01.33 | F517: 1 | G517: =CONCATENATE(B517, " (", D517, ")") -> Florence Peterson- (Laurier Heights)
A518: 2 | B518: Joelle Downing | C518: 4 | D518: LaPerle | E518: 9:05.38 | F518: 2 | G518: =CONCATENATE(B518, " (", D518, ")") -> Joelle Downing (LaPerle)
A519: 3 | B519: Loretta Harcourt | C519: 4 | D519: Brander Gardens | E519: 9:19.56 | F519: 3 | G519: =CONCATENATE(B519, " (", D519, ")") -> Loretta Harcourt (Brander Gardens)
A520: 4 | B520: Margaux Gibeau | C520: 4 | D520: Rio Terrace | E520: 9:21.55 | F520: 4 | G520: =CONCATENATE(B520, " (", D520, ")") -> Margaux Gibeau (Rio Terrace)
A521: 5 | B521: Beatrice Summers-F | C521: 4 | D521: Westglen | E521: 9:22.84 | F521: 5 | G521: =CONCATENATE(B521, " (", D521, ")") -> Beatrice Summers-F (Westglen)
A522: 6 | B522: Annika Banerjee | C522: 4 | D522: Mill Creek | E522: 9:26.45 | F522: 6 | G522: =CONCATENATE(B522, " (", D522, ")") -> Annika Banerjee (Mill Creek)
A523: 7 | B523: Madeline Norton | C523: 4 | D523: Laurier Heights | E523: 9:33.40 | F523: 7 | G523: =CONCATENATE(B523, " (", D523, ")") -> Madeline Norton (Laurier Heights)
A524: 8 | B524: Keira Mather | C524: 4 | D524: Laurier Heights | E524: 9:35.46 | F524: 8 | G524: =CONCATENATE(B524, " (", D524, ")") -> Keira Mather (Laurier Heights)
A525: 9 | B525: Lyla Mullen | C525: 4 | D525: Westglen | E525: 9:38.38 | F525: 9 | G525: =CONCATENATE(B525, " (", D525, ")") -> Lyla Mullen (Westglen)
A526: 10 | B526: Everyly Leighman | C526: 4 | D526: Patricia Heights | E526: 9:39.79 | F526: 10 | G526: =CONCATENATE(B526, " (", D526, ")") -> Everyly Leighman (Patricia Heights)
A527: 11 | B527: Norah Mior | C527: 4 | D527: Joey Moss | E527: 9:42.04 | F527: 11 | G527: =CONCATENATE(B527, " (", D527, ")") -> Norah Mior (Joey Moss)
A528: 12 | B528: Everly Blair | C528: 4 | D528: Roberta MacAdams | E528: 9:43.00 | F528: 12 | G528: =CONCATENATE(B528, " (", D528, ")") -> Everly Blair (Roberta MacAdams)
... A789: 273 | B789: Sajud Sarhan | C789: 4 | D789: Mee-Yah-Noh | E789: 19:14.00 | F789: 273 | G789: =CONCATENATE(B789, " (", D789, ")") -> Sajud Sarhan (Mee-Yah-Noh)

Sheet Grade 4 Boys
A1: 2026 Edmonton Harriers Cross-Country Series
A2: Rank in Place | B2: Name | C2: Grade | D2: Team | E2: Time | F2: Points | G2: Athlete-School
A3: Mill Woods Park (September 16) -- Grade 4 Boys 1800m
A4: 1 | B4: Miles Petrosky | C4: 4 | D4: King Edward | E4: 7:07.27 | F4: 1 | G4: =CONCATENATE(B4, " (", D4, ")") -> Miles Petrosky (King Edward)
A5: 2 | B5: Adam El Hamoui | C5: 4 | D5: Stratford | E5: 7:08.18 | F5: 2 | G5: =CONCATENATE(B5, " (", D5, ")") -> Adam El Hamoui (Stratford)
A6: 3 | B6: Xavier Miller | C6: 4 | D6: Unattached | E6: 7:12.75 | F6: 3 | G6: =CONCATENATE(B6, " (", D6, ")") -> Xavier Miller (Unattached)
A7: 4 | B7: Jackson Ongom | C7: 4 | D7: Gabrielle Roy | E7: 7:22.82 | F7: 4 | G7: =CONCATENATE(B7, " (", D7, ")") -> Jackson Ongom (Gabrielle Roy)
A8: 5 | B8: Benyamin Bandari | C8: 4 | D8: Aurora Charter | E8: 7:27.87 | F8: 5 | G8: =CONCATENATE(B8, " (", D8, ")") -> Benyamin Bandari (Aurora Charter)
A9: 6 | B9: Nico Garza | C9: 4 | D9: Belgravia | E9: 7:29.27 | F9: 6 | G9: =CONCATENATE(B9, " (", D9, ")") -> Nico Garza (Belgravia)
A10: 7 | B10: Wilder Vanravenswa | C10: 4 | D10: Forest Heights | E10: 7:33.24 | F10: 7 | G10: =CONCATENATE(B10, " (", D10, ")") -> Wilder Vanravenswa (Forest Heights)
A11: 8 | B11: Sawyer Smulski | C11: 4 | D11: Patricia Heights | E11: 7:37.83 | F11: 8 | G11: =CONCATENATE(B11, " (", D11, ")") -> Sawyer Smulski (Patricia Heights)
A12: 9 | B12: Dane Terriff | C12: 4 | D12: Westbrook | E12: 7:39.20 | F12: 9 | G12: =CONCATENATE(B12, " (", D12, ")") -> Dane Terriff (Westbrook)
A13: 10 | B13: Zach McEwan | C13: 4 | D13: George H. Luck | E13: 7:41.48 | F13: 10 | G13: =CONCATENATE(B13, " (", D13, ")") -> Zach McEwan (George H. Luck)
A14: 11 | B14: Callum Franklin | C14: 4 | D14: Brander Gardens | E14: 7:42.32 | F14: 11 | G14: =CONCATENATE(B14, " (", D14, ")") -> Callum Franklin (Brander Gardens)
A15: 12 | B15: Sebastien Ryan | C15: 4 | D15: Holy Cross | E15: 7:43.25 | F15: 12 | G15: =CONCATENATE(B15, " (", D15, ")") -> Sebastien Ryan (Holy Cross)
... A318: 315 | B318: Derek Horn | C318: 4 | D318: Michael A. Kostek | E318: 18:31.00 | F318: 315 | G318: =CONCATENATE(B318, " (", D318, ")") -> Derek Horn (Michael A. Kostek)
A321: Rundle Park (September 23) -- Grade 4 Boys 2100m
A322: 1 | B322: Xavier Miller | C322: 4 | D322: Unattached | E322: 8:35.25 | F322: 1 | G322: =CONCATENATE(B322, " (", D322, ")") -> Xavier Miller (Unattached)
A323: 2 | B323: Miles Petrosky | C323: 4 | D323: King Edward | E323: 8:48.02 | F323: 2 | G323: =CONCATENATE(B323, " (", D323, ")") -> Miles Petrosky (King Edward)
A324: 3 | B324: Benyamin Bandari | C324: 4 | D324: Aurora Charter | E324: 8:49.75 | F324: 3 | G324: =CONCATENATE(B324, " (", D324, ")") -> Benyamin Bandari (Aurora Charter)
A325: 4 | B325: Leo Wickham | C325: 4 | D325: Esther Starkman | E325: 8:51.37 | F325: 4 | G325: =CONCATENATE(B325, " (", D325, ")") -> Leo Wickham (Esther Starkman)
A326: 5 | B326: Valentine Harcourt | C326: 4 | D326: Brander Gardens | E326: 8:52.03 | F326: 5 | G326: =CONCATENATE(B326, " (", D326, ")") -> Valentine Harcourt (Brander Gardens)
A327: 6 | B327: Nico Garza | C327: 4 | D327: Belgravia | E327: 8:55.60 | F327: 6 | G327: =CONCATENATE(B327, " (", D327, ")") -> Nico Garza (Belgravia)
A328: 7 | B328: Sawyer Smulski | C328: 4 | D328: Patricia Heights | E328: 9:00.85 | F328: 7 | G328: =CONCATENATE(B328, " (", D328, ")") -> Sawyer Smulski (Patricia Heights)
A329: 8 | B329: Zach McEwan | C329: 4 | D329: George H. Luck | E329: 9:01.51 | F329: 8 | G329: =CONCATENATE(B329, " (", D329, ")") -> Zach McEwan (George H. Luck)
A330: 9 | B330: Callum Franklin | C330: 4 | D330: Brander Gardens | E330: 9:05.03 | F330: 9 | G330: =CONCATENATE(B330, " (", D330, ")") -> Callum Franklin (Brander Gardens)
A331: 10 | B331: Wilder Vanravenswa | C331: 4 | D331: Forest Heights | E331: 9:05.33 | F331: 10 | G331: =CONCATENATE(B331, " (", D331, ")") -> Wilder Vanravenswa (Forest Heights)
A332: 11 | B332: Kingston Haekel | C332: 4 | D332: George P. Nicholson | E332: 9:06.41 | F332: 11 | G332: =CONCATENATE(B332, " (", D332, ")") -> Kingston Haekel (George P. Nicholson)
A333: 12 | B333: Dane Terriff | C333: 4 | D333: Westbrook | E333: 9:09.77 | F333: 12 | G333: =CONCATENATE(B333, " (", D333, ")") -> Dane Terriff (Westbrook)
... A598: 277 | B598: Joel Omerah | C598: 4 | D598: Shauna May Seneca | E598: 22:55.00 | F598: 277 | G598: =CONCATENATE(B598, " (", D598, ")") -> Joel Omerah (Shauna May Seneca)
A601: Terwillegar Park (September 29) -- Grade 4 Boys 2000m
A602: 1 | B602: Adam El Hamoui | C602: 4 | D602: Stratford | E602: 7:51.04 | F602: 1 | G602: =CONCATENATE(B602, " (", D602, ")") -> Adam El Hamoui (Stratford)
A603: 2 | B603: Miles Petrosky | C603: 4 | D603: King Edward | E603: 8:10.68 | F603: 2 | G603: =CONCATENATE(B603, " (", D603, ")") -> Miles Petrosky (King Edward)
A604: 3 | B604: Valentine Harcourt | C604: 4 | D604: Brander Gardens | E604: 8:14.34 | F604: 3 | G604: =CONCATENATE(B604, " (", D604, ")") -> Valentine Harcourt (Brander Gardens)
A605: 4 | B605: Zach McEwan | C605: 4 | D605: George H. Luck | E605: 8:16.75 | F605: 4 | G605: =CONCATENATE(B605, " (", D605, ")") -> Zach McEwan (George H. Luck)
A606: 5 | B606: Xavier Miller | C606: 4 | D606: Unattached | E606: 8:20.51 | F606: 5 | G606: =CONCATENATE(B606, " (", D606, ")") -> Xavier Miller (Unattached)
A607: 6 | B607: Sawyer Smulski | C607: 4 | D607: Patricia Heights | E607: 8:23.70 | F607: 6 | G607: =CONCATENATE(B607, " (", D607, ")") -> Sawyer Smulski (Patricia Heights)
A608: 7 | B608: Callum Franklin | C608: 4 | D608: Brander Gardens | E608: 8:28.35 | F608: 7 | G608: =CONCATENATE(B608, " (", D608, ")") -> Callum Franklin (Brander Gardens)
A609: 8 | B609: Wilder Vanravenswa | C609: 4 | D609: Forest Heights | E609: 8:30.90 | F609: 8 | G609: =CONCATENATE(B609, " (", D609, ")") -> Wilder Vanravenswa (Forest Heights)
A610: 9 | B610: Dane Terriff | C610: 4 | D610: Westbrook | E610: 8:32.18 | F610: 9 | G610: =CONCATENATE(B610, " (", D610, ")") -> Dane Terriff (Westbrook)
A611: 10 | B611: Nico Garza | C611: 4 | D611: Belgravia | E611: 8:35.04 | F611: 10 | G611: =CONCATENATE(B611, " (", D611, ")") -> Nico Garza (Belgravia)
A612: 11 | B612: Kieren Calvert | C612: 4 | D612: Brander Gardens | E612: 8:36.19 | F612: 11 | G612: =CONCATENATE(B612, " (", D612, ")") -> Kieren Calvert (Brander Gardens)
A613: 12 | B613: Benyamin Bandari | C613: 4 | D613: Aurora Charter | E613: 8:38.10 | F613: 12 | G613: =CONCATENATE(B613, " (", D613, ")") -> Benyamin Bandari (Aurora Charter)
... A913: 312 | B913: Adam Al Jamal | C913: 4 | D913: Mee-Yah-Noh | E913: 19:42.84 | F913: 312 | G913: =CONCATENATE(B913, " (", D913, ")") -> Adam Al Jamal (Mee-Yah-Noh)

Sheet Grade 5 Girls
A1: 2026 Edmonton Harriers Cross-Country Series
A2: Rank in Place | B2: Name | C2: Grade | D2: Team | E2: Time | F2: Points | G2: Athlete-School
A3: Mill Woods Park (September 16) -- Grade 5 Girls 1800m
A4: 1 | B4: Ines Monterrosa | C4: 5 | D4: Mill Creek | E4: 7:20.90 | F4: 1 | G4: =CONCATENATE(B4, " (", D4, ")") -> Ines Monterrosa (Mill Creek)
A5: 2 | B5: Jayla Bealer | C5: 5 | D5: Patricia Heights | E5: 7:22.47 | F5: 2 | G5: =CONCATENATE(B5, " (", D5, ")") -> Jayla Bealer (Patricia Heights)
A6: 3 | B6: Madison Carson | C6: 5 | D6: Roberta MacAdams | E6: 7:23.30 | F6: 3 | G6: =CONCATENATE(B6, " (", D6, ")") -> Madison Carson (Roberta MacAdams)
A7: 4 | B7: Kiori Uhrig | C7: 5 | D7: Notre Dame Edmonton | E7: 7:32.22 | F7: 4 | G7: =CONCATENATE(B7, " (", D7, ")") -> Kiori Uhrig (Notre Dame Edmonton)
A8: 5 | B8: Hana Krantz | C8: 5 | D8: Laurier Heights | E8: 7:48.01 | F8: 5 | G8: =CONCATENATE(B8, " (", D8, ")") -> Hana Krantz (Laurier Heights)
A9: 6 | B9: Diana Parkhomenka | C9: 5 | D9: OurLadyPerpetual | E9: 8:07.79 | F9: 6 | G9: =CONCATENATE(B9, " (", D9, ")") -> Diana Parkhomenka (OurLadyPerpetual)
A10: 7 | B10: Bridget Austrom | C10: 5 | D10: Brander Gardens | E10: 8:13.34 | F10: 7 | G10: =CONCATENATE(B10, " (", D10, ")") -> Bridget Austrom (Brander Gardens)
A11: 8 | B11: Hadley Bruveris | C11: 5 | D11: Holyrood | E11: 8:13.79 | F11: 8 | G11: =CONCATENATE(B11, " (", D11, ")") -> Hadley Bruveris (Holyrood)
A12: 9 | B12: Dzifah Akude | C12: 5 | D12: Meyokumin | E12: 8:15.09 | F12: 9 | G12: =CONCATENATE(B12, " (", D12, ")") -> Dzifah Akude (Meyokumin)
A13: 10 | B13: Ayla Shapka | C13: 5 | D13: Laurier Heights | E13: 8:16.97 | F13: 10 | G13: =CONCATENATE(B13, " (", D13, ")") -> Ayla Shapka (Laurier Heights)
A14: 11 | B14: Ava Bayat | C14: 5 | D14: Windsor Park | E14: 8:21.99 | F14: 11 | G14: =CONCATENATE(B14, " (", D14, ")") -> Ava Bayat (Windsor Park)
A15: 12 | B15: Lexi Wagontall | C15: 5 | D15: Johnny Bright | E15: 8:24.20 | F15: 12 | G15: =CONCATENATE(B15, " (", D15, ")") -> Lexi Wagontall (Johnny Bright)
... A234: 231 | B234: Amber Rylaarsdam | C234: 5 | D234: Kameyosek | E234: 16:19.00 | F234: 231 | G234: =CONCATENATE(B234, " (", D234, ")") -> Amber Rylaarsdam (Kameyosek)
A237: Rundle Park (September 23) -- Grade 5 Girls 2100m
A238: 1 | B238: Madison Carson | C238: 5 | D238: Roberta MacAdams | E238: 8:52.06 | F238: 1 | G238: =CONCATENATE(B238, " (", D238, ")") -> Madison Carson (Roberta MacAdams)
A239: 2 | B239: Hazel Hoffart | C239: 5 | D239: Belgravia | E239: 9:09.47 | F239: 2 | G239: =CONCATENATE(B239, " (", D239, ")") -> Hazel Hoffart (Belgravia)
A240: 3 | B240: Kiori Uhrig | C240: 5 | D240: Notre Dame Edmonton | E240: 9:11.90 | F240: 3 | G240: =CONCATENATE(B240, " (", D240, ")") -> Kiori Uhrig (Notre Dame Edmonton)
A241: 4 | B241: Ines Monterrosa | C241: 5 | D241: Mill Creek | E241: 9:16.42 | F241: 4 | G241: =CONCATENATE(B241, " (", D241, ")") -> Ines Monterrosa (Mill Creek)
A242: 5 | B242: Jayla Bealer | C242: 5 | D242: Patricia Heights | E242: 9:20.25 | F242: 5 | G242: =CONCATENATE(B242, " (", D242, ")") -> Jayla Bealer (Patricia Heights)
A243: 6 | B243: Hana Krantz | C243: 5 | D243: Laurier Heights | E243: 9:36.60 | F243: 6 | G243: =CONCATENATE(B243, " (", D243, ")") -> Hana Krantz (Laurier Heights)
A244: 7 | B244: Diana Parkhomenka | C244: 5 | D244: OurLadyPerpetual | E244: 9:43.60 | F244: 7 | G244: =CONCATENATE(B244, " (", D244, ")") -> Diana Parkhomenka (OurLadyPerpetual)
A245: 8 | B245: Ayla Shapka | C245: 5 | D245: Laurier Heights | E245: 9:48.81 | F245: 8 | G245: =CONCATENATE(B245, " (", D245, ")") -> Ayla Shapka (Laurier Heights)
A246: 9 | B246: Ava Bayat | C246: 5 | D246: Windsor Park | E246: 9:51.51 | F246: 9 | G246: =CONCATENATE(B246, " (", D246, ")") -> Ava Bayat (Windsor Park)
A247: 10 | B247: Bridget Austrom | C247: 5 | D247: Brander Gardens | E247: 9:56.32 | F247: 10 | G247: =CONCATENATE(B247, " (", D247, ")") -> Bridget Austrom (Brander Gardens)
A248: 11 | B248: Hadley Bruveris | C248: 5 | D248: Holyrood | E248: 9:57.69 | F248: 11 | G248: =CONCATENATE(B248, " (", D248, ")") -> Hadley Bruveris (Holyrood)
A249: 12 | B249: Lexi Wagontall | C249: 5 | D249: Johnny Bright | E249: 9:59.25 | F249: 12 | G249: =CONCATENATE(B249, " (", D249, ")") -> Lexi Wagontall (Johnny Bright)
... A439: 202 | B439: Dhiya Moturi | C439: 5 | D439: Crawford Plains | E439: 19:05.00 | F439: 202 | G439: =CONCATENATE(B439, " (", D439, ")") -> Dhiya Moturi (Crawford Plains)
A442: Terwillegar Park (September 29) -- Grade 5 Girls 2000m
A443: 1 | B443: Madison Carson | C443: 5 | D443: Roberta MacAdams | E443: 8:30.40 | F443: 1 | G443: =CONCATENATE(B443, " (", D443, ")") -> Madison Carson (Roberta MacAdams)
A444: 2 | B444: Ines Monterrosa | C444: 5 | D444: Mill Creek | E444: 8:32.50 | F444: 2 | G444: =CONCATENATE(B444, " (", D444, ")") -> Ines Monterrosa (Mill Creek)
A445: 3 | B445: Dzifah Akude | C445: 5 | D445: Meyokumin | E445: 8:36.15 | F445: 3 | G445: =CONCATENATE(B445, " (", D445, ")") -> Dzifah Akude (Meyokumin)
A446: 4 | B446: Kiori Uhrig | C446: 5 | D446: Notre Dame Edmonton | E446: 8:38.20 | F446: 4 | G446: =CONCATENATE(B446, " (", D446, ")") -> Kiori Uhrig (Notre Dame Edmonton)
A447: 5 | B447: Diana Parkhomenka | C447: 5 | D447: OurLadyPerpetual | E447: 9:08.54 | F447: 5 | G447: =CONCATENATE(B447, " (", D447, ")") -> Diana Parkhomenka (OurLadyPerpetual)
A448: 6 | B448: Ena Brosda | C448: 5 | D448: Earl Buxton | E448: 9:10.39 | F448: 6 | G448: =CONCATENATE(B448, " (", D448, ")") -> Ena Brosda (Earl Buxton)
A449: 7 | B449: Hana Krantz | C449: 5 | D449: Laurier Heights | E449: 9:12.74 | F449: 7 | G449: =CONCATENATE(B449, " (", D449, ")") -> Hana Krantz (Laurier Heights)
A450: 8 | B450: Hadley Bruveris | C450: 5 | D450: Holyrood | E450: 9:22.30 | F450: 8 | G450: =CONCATENATE(B450, " (", D450, ")") -> Hadley Bruveris (Holyrood)
A451: 9 | B451: Bridget Austrom | C451: 5 | D451: Brander Gardens | E451: 9:22.50 | F451: 9 | G451: =CONCATENATE(B451, " (", D451, ")") -> Bridget Austrom (Brander Gardens)
A452: 10 | B452: Grace Brimacombe | C452: 5 | D452: Brookside | E452: 9:22.68 | F452: 10 | G452: =CONCATENATE(B452, " (", D452, ")") -> Grace Brimacombe (Brookside)
A453: 11 | B453: Ava Bayat | C453: 5 | D453: Windsor Park | E453: 9:26.60 | F453: 11 | G453: =CONCATENATE(B453, " (", D453, ")") -> Ava Bayat (Windsor Park)
A454: 12 | B454: Kiana Dehghanpour | C454: 5 | D454: Windsor Park | E454: 9:27.97 | F454: 12 | G454: =CONCATENATE(B454, " (", D454, ")") -> Kiana Dehghanpour (Windsor Park)
... A696: 254 | B696: Amber Rylaarsdam | C696: 5 | D696: Kameyosek | E696: 18:58.00 | F696: 254 | G696: =CONCATENATE(B696, " (", D696, ")") -> Amber Rylaarsdam (Kameyosek)

Sheet Grade 5 Boys
A1: 2026 Edmonton Harriers Cross-Country Series
A2: Rank in Place | B2: Name | C2: Grade | D2: Team | E2: Time | F2: Points | G2: Athlete-School
A3: Mill Woods Park (September 16) -- Grade 5 Boys 1800m
A4: 1 | B4: Walker Yonge | C4: 5 | D4: Belgravia | E4: 6:50.21 | F4: 1 | G4: =CONCATENATE(B4, " (", D4, ")") -> Walker Yonge (Belgravia)
A5: 2 | B5: Seb Wolfi | C5: 5 | D5: Brander Gardens | E5: 7:03.30 | F5: 2 | G5: =CONCATENATE(B5, " (", D5, ")") -> Seb Wolfi (Brander Gardens)
A6: 3 | B6: Tyson Reed | C6: 5 | D6: David Thomas King | E6: 7:04.87 | F6: 3 | G6: =CONCATENATE(B6, " (", D6, ")") -> Tyson Reed (David Thomas King)
A7: 4 | B7: Oliver Grant | C7: 5 | D7: Holyrood | E7: 7:10.83 | F7: 4 | G7: =CONCATENATE(B7, " (", D7, ")") -> Oliver Grant (Holyrood)
A8: 5 | B8: Levon Phelan | C8: 5 | D8: Holyrood | E8: 7:13.66 | F8: 5 | G8: =CONCATENATE(B8, " (", D8, ")") -> Levon Phelan (Holyrood)
A9: 6 | B9: Fynn Burrows | C9: 5 | D9: Patricia Heights | E9: 7:14.20 | F9: 6 | G9: =CONCATENATE(B9, " (", D9, ")") -> Fynn Burrows (Patricia Heights)
A10: 7 | B10: Lincoln Haekel | C10: 5 | D10: George P. Nicholson | E10: 7:18.22 | F10: 7 | G10: =CONCATENATE(B10, " (", D10, ")") -> Lincoln Haekel (George P. Nicholson)
A11: 8 | B11: Gavin Salmon | C11: 5 | D11: Michael A. Kostek | E11: 7:19.55 | F11: 8 | G11: =CONCATENATE(B11, " (", D11, ")") -> Gavin Salmon (Michael A. Kostek)
A12: 9 | B12: Teddy Holmes | C12: 5 | D12: Donnan | E12: 7:20.91 | F12: 9 | G12: =CONCATENATE(B12, " (", D12, ")") -> Teddy Holmes (Donnan)
A13: 10 | B13: Casey Paulsen | C13: 5 | D13: Patricia Heights | E13: 7:21.88 | F13: 10 | G13: =CONCATENATE(B13, " (", D13, ")") -> Casey Paulsen (Patricia Heights)
A14: 11 | B14: Adam Rahich | C14: 5 | D14: Tipaskan | E14: 7:24.15 | F14: 11 | G14: =CONCATENATE(B14, " (", D14, ")") -> Adam Rahich (Tipaskan)
A15: 12 | B15: Caellum Amenu-Teka | C15: 5 | D15: George P. Nicholson | E15: 7:24.35 | F15: 12 | G15: =CONCATENATE(B15, " (", D15, ")") -> Caellum Amenu-Teka (George P. Nicholson)
... A237: 234 | B237: Kaiden Johnston | C237: 5 | D237: Homesteader | E237: 16:01.21 | F237: 234 | G237: =CONCATENATE(B237, " (", D237, ")") -> Kaiden Johnston (Homesteader)
A240: Rundle Park (September 23) -- Grade 5 Boys 2100m
A241: 1 | B241: Walker Yonge | C241: 5 | D241: Belgravia | E241: 8:19.77 | F241: 1 | G241: =CONCATENATE(B241, " (", D241, ")") -> Walker Yonge (Belgravia)
A242: 2 | B242: Lincoln Haekel | C242: 5 | D242: George P. Nicholson | E242: 8:24.43 | F242: 2 | G242: =CONCATENATE(B242, " (", D242, ")") -> Lincoln Haekel (George P. Nicholson)
A243: 3 | B243: Seb Wolfi | C243: 5 | D243: Brander Gardens | E243: 8:39.80 | F243: 3 | G243: =CONCATENATE(B243, " (", D243, ")") -> Seb Wolfi (Brander Gardens)
A244: 4 | B244: Jacob Wampler | C244: 5 | D244: Gold Bar | E244: 8:50.32 | F244: 4 | G244: =CONCATENATE(B244, " (", D244, ")") -> Jacob Wampler (Gold Bar)
A245: 5 | B245: Gavin Salmon | C245: 5 | D245: Michael A. Kostek | E245: 8:51.16 | F245: 5 | G245: =CONCATENATE(B245, " (", D245, ")") -> Gavin Salmon (Michael A. Kostek)
A246: 6 | B246: Onyx Reyes | C246: 5 | D246: Mill Creek | E246: 8:59.32 | F246: 6 | G246: =CONCATENATE(B246, " (", D246, ")") -> Onyx Reyes (Mill Creek)
A247: 7 | B247: Teddy Holmes | C247: 5 | D247: Donnan | E247: 8:59.52 | F247: 7 | G247: =CONCATENATE(B247, " (", D247, ")") -> Teddy Holmes (Donnan)
A248: 8 | B248: Levon Phelan | C248: 5 | D248: Holyrood | E248: 9:01.50 | F248: 8 | G248: =CONCATENATE(B248, " (", D248, ")") -> Levon Phelan (Holyrood)
A249: 9 | B249: Casey Paulsen | C249: 5 | D249: Patricia Heights | E249: 9:03.05 | F249: 9 | G249: =CONCATENATE(B249, " (", D249, ")") -> Casey Paulsen (Patricia Heights)
A250: 10 | B250: Caellum Amenu-Teka | C250: 5 | D250: George P. Nicholson | E250: 9:04.09 | F250: 10 | G250: =CONCATENATE(B250, " (", D250, ")") -> Caellum Amenu-Teka (George P. Nicholson)
A251: 11 | B251: William Delgado Mi | C251: 5 | D251: Sweet Grass | E251: 9:04.79 | F251: 11 | G251: =CONCATENATE(B251, " (", D251, ")") -> William Delgado Mi (Sweet Grass)
A252: 12 | B252: Dylan Wiger | C252: 5 | D252: Donnan | E252: 9:06.13 | F252: 12 | G252: =CONCATENATE(B252, " (", D252, ")") -> Dylan Wiger (Donnan)
... A443: 203 | B443: Ibrahim Adnan | C443: 5 | D443: MAC Islamic | E443: 17:49.76 | F443: 203 | G443: =CONCATENATE(B443, " (", D443, ")") -> Ibrahim Adnan (MAC Islamic)
A446: Terwillegar Park (September 29) -- Grade 5 Boys 2000m
A447: 1 | B447: Walker Yonge | C447: 5 | D447: Belgravia | E447: 7:47.78 | F447: 1 | G447: =CONCATENATE(B447, " (", D447, ")") -> Walker Yonge (Belgravia)
A448: 2 | B448: Simon Part | C448: 5 | D448: Brander Gardens | E448: 8:00.96 | F448: 2 | G448: =CONCATENATE(B448, " (", D448, ")") -> Simon Part (Brander Gardens)
A449: 3 | B449: Seb Wolfi | C449: 5 | D449: Brander Gardens | E449: 8:04.10 | F449: 3 | G449: =CONCATENATE(B449, " (", D449, ")") -> Seb Wolfi (Brander Gardens)
A450: 4 | B450: Dylan Wiger | C450: 5 | D450: Donnan | E450: 8:10.65 | F450: 4 | G450: =CONCATENATE(B450, " (", D450, ")") -> Dylan Wiger (Donnan)
A451: 5 | B451: Gavin Salmon | C451: 5 | D451: Michael A. Kostek | E451: 8:16.51 | F451: 5 | G451: =CONCATENATE(B451, " (", D451, ")") -> Gavin Salmon (Michael A. Kostek)
A452: 6 | B452: Cohen Benoza | C452: 5 | D452: Holyrood | E452: 8:18.51 | F452: 6 | G452: =CONCATENATE(B452, " (", D452, ")") -> Cohen Benoza (Holyrood)
A453: 7 | B453: Everett Korzan | C453: 5 | D453: Edmonton Chr | E453: 8:23.42 | F453: 7 | G453: =CONCATENATE(B453, " (", D453, ")") -> Everett Korzan (Edmonton Chr)
A454: 8 | B454: Onyx Reyes | C454: 5 | D454: Mill Creek | E454: 8:24.26 | F454: 8 | G454: =CONCATENATE(B454, " (", D454, ")") -> Onyx Reyes (Mill Creek)
A455: 9 | B455: Tyson Reed | C455: 5 | D455: David Thomas King | E455: 8:24.78 | F455: 9 | G455: =CONCATENATE(B455, " (", D455, ")") -> Tyson Reed (David Thomas King)
A456: 10 | B456: Teddy Holmes | C456: 5 | D456: Donnan | E456: 8:25.88 | F456: 10 | G456: =CONCATENATE(B456, " (", D456, ")") -> Teddy Holmes (Donnan)
A457: 11 | B457: Connor Davidson | C457: 5 | D457: Johnny Bright | E457: 8:28.14 | F457: 11 | G457: =CONCATENATE(B457, " (", D457, ")") -> Connor Davidson (Johnny Bright)
A458: 12 | B458: Levon Phelan | C458: 5 | D458: Holyrood | E458: 8:30.50 | F458: 12 | G458: =CONCATENATE(B458, " (", D458, ")") -> Levon Phelan (Holyrood)
... A692: 246 | B692: Kaiden Johnston | C692: 5 | D692: Homesteader | E692: 17:54.00 | F692: 246 | G692: =CONCATENATE(B692, " (", D692, ")") -> Kaiden Johnston (Homesteader)

Sheet Grade 6 Girls
A1: 2026 Edmonton Harriers Cross-Country Series
A2: Rank in Place | B2: Name | C2: Grade | D2: Team | E2: Time | F2: Points | G2: Athlete-School
A3: Mill Woods Park (September 16) -- Grade 6 Girls 1800m
A4: 1 | B4: Petra Woosley | C4: 6 | D4: Crestwood | E4: 7:23.53 | F4: 1 | G4: =CONCATENATE(B4, " (", D4, ")") -> Petra Woosley (Crestwood)
A5: 2 | B5: Ella Ayon | C5: 6 | D5: Centennial | E5: 7:24.56 | F5: 2 | G5: =CONCATENATE(B5, " (", D5, ")") -> Ella Ayon (Centennial)
A6: 3 | B6: Zoe Ferris | C6: 6 | D6: Centennial | E6: 7:26.57 | F6: 3 | G6: =CONCATENATE(B6, " (", D6, ")") -> Zoe Ferris (Centennial)
A7: 4 | B7: Lynsey Lysak | C7: 6 | D7: Crawford Plains | E7: 7:27.07 | F7: 4 | G7: =CONCATENATE(B7, " (", D7, ")") -> Lynsey Lysak (Crawford Plains)
A8: 5 | B8: Sadie Zarowny | C8: 6 | D8: George H. Luck | E8: 7:36.05 | F8: 5 | G8: =CONCATENATE(B8, " (", D8, ")") -> Sadie Zarowny (George H. Luck)
A9: 6 | B9: Paisley Clark | C9: 6 | D9: Centennial | E9: 7:41.94 | F9: 6 | G9: =CONCATENATE(B9, " (", D9, ")") -> Paisley Clark (Centennial)
A10: 7 | B10: Sydney Thomas | C10: 6 | D10: Winterburn | E10: 7:42.14 | F10: 7 | G10: =CONCATENATE(B10, " (", D10, ")") -> Sydney Thomas (Winterburn)
A11: 8 | B11: Sahaj Kharoud | C11: 6 | D11: George P. Nicholson | E11: 7:44.52 | F11: 8 | G11: =CONCATENATE(B11, " (", D11, ")") -> Sahaj Kharoud (George P. Nicholson)
A12: 9 | B12: Collins Zieba | C12: 6 | D12: Michael A. Kostek | E12: 7:44.74 | F12: 9 | G12: =CONCATENATE(B12, " (", D12, ")") -> Collins Zieba (Michael A. Kostek)
A13: 10 | B13: Clara Stepney | C13: 6 | D13: Michael A. Kostek | E13: 7:44.99 | F13: 10 | G13: =CONCATENATE(B13, " (", D13, ")") -> Clara Stepney (Michael A. Kostek)
A14: 11 | B14: Myra Bhuraria | C14: 6 | D14: Stratford | E14: 7:46.35 | F14: 11 | G14: =CONCATENATE(B14, " (", D14, ")") -> Myra Bhuraria (Stratford)
A15: 12 | B15: Kiera Cody | C15: 6 | D15: Holyrood | E15: 7:47.17 | F15: 12 | G15: =CONCATENATE(B15, " (", D15, ")") -> Kiera Cody (Holyrood)
... A217: 214 | B217: Olive Williams | C217: 6 | D217: David Thomas King | E217: 16:36.34 | F217: 214 | G217: =CONCATENATE(B217, " (", D217, ")") -> Olive Williams (David Thomas King)
A220: Rundle Park (September 23) -- Grade 6 Girls 2100m
A221: 1 | B221: Lynsey Lysak | C221: 6 | D221: Crawford Plains | E221: 8:54.88 | F221: 1 | G221: =CONCATENATE(B221, " (", D221, ")") -> Lynsey Lysak (Crawford Plains)
A222: 2 | B222: Julia Panchuk | C222: 6 | D222: Donnan | E222: 8:57.51 | F222: 2 | G222: =CONCATENATE(B222, " (", D222, ")") -> Julia Panchuk (Donnan)
A223: 3 | B223: Petra Woosley | C223: 6 | D223: Crestwood | E223: 8:58.67 | F223: 3 | G223: =CONCATENATE(B223, " (", D223, ")") -> Petra Woosley (Crestwood)
A224: 4 | B224: Zoe Ferris | C224: 6 | D224: Centennial | E224: 8:59.62 | F224: 4 | G224: =CONCATENATE(B224, " (", D224, ")") -> Zoe Ferris (Centennial)
A225: 5 | B225: Ella Ayon | C225: 6 | D225: Centennial | E225: 8:59.81 | F225: 5 | G225: =CONCATENATE(B225, " (", D225, ")") -> Ella Ayon (Centennial)
A226: 6 | B226: Sahaj Kharoud | C226: 6 | D226: George P. Nicholson | E226: 9:00.28 | F226: 6 | G226: =CONCATENATE(B226, " (", D226, ")") -> Sahaj Kharoud (George P. Nicholson)
A227: 7 | B227: Collins Zieba | C227: 6 | D227: Michael A. Kostek | E227: 9:01.21 | F227: 7 | G227: =CONCATENATE(B227, " (", D227, ")") -> Collins Zieba (Michael A. Kostek)
A228: 8 | B228: Clara Stepney | C228: 6 | D228: Michael A. Kostek | E228: 9:07.43 | F228: 8 | G228: =CONCATENATE(B228, " (", D228, ")") -> Clara Stepney (Michael A. Kostek)
A229: 9 | B229: Sydney Thomas | C229: 6 | D229: Winterburn | E229: 9:21.36 | F229: 9 | G229: =CONCATENATE(B229, " (", D229, ")") -> Sydney Thomas (Winterburn)
A230: 10 | B230: Kiera Cody | C230: 6 | D230: Holyrood | E230: 9:26.85 | F230: 10 | G230: =CONCATENATE(B230, " (", D230, ")") -> Kiera Cody (Holyrood)
A231: 11 | B231: Paisley Clark | C231: 6 | D231: Centennial | E231: 9:33.61 | F231: 11 | G231: =CONCATENATE(B231, " (", D231, ")") -> Paisley Clark (Centennial)
A232: 12 | B232: Ava Block | C232: 6 | D232: Centennial | E232: 9:33.97 | F232: 12 | G232: =CONCATENATE(B232, " (", D232, ")") -> Ava Block (Centennial)
... A261: 41 | B261: Leian Kerar | C261: 6 | D261: John A. McDougall | E261: 10:46.00 | F261: 41 | G261: =CONCATENATE(B261, " (", D261, ")") -> Leian Kerar (John A. McDougall)
A262: 42 | B262: M駘ine Agnew | C262: 6 L | D262: aurier Heights | E262: 10:51.96 | F262: 42 | G262: =CONCATENATE(B262, " (", D262, ")") -> M駘ine Agnew (aurier Heights)
A263: 43 | B263: Grace Breitkreuz | C263: 6 | D263: Hardisty | E263: 10:56.89 | F263: 43 | G263: =CONCATENATE(B263, " (", D263, ")") -> Grace Breitkreuz (Hardisty)
A264: 44 | B264: Avery Lelacheur | C264: 6 | D264: David Thomas King | E264: 10:59.20 | F264: 44 | G264: =CONCATENATE(B264, " (", D264, ")") -> Avery Lelacheur (David Thomas King)
A265: 45 | B265: Olivia Wanchuk | C265: 6 | D265: LaPerle | E265: 10:59.63 | F265: 45 | G265: =CONCATENATE(B265, " (", D265, ")") -> Olivia Wanchuk (LaPerle)
A266: 46 | B266: Hana Anaka | C266: 6 | D266: Windsor Park | E266: 11:01.24 | F266: 46 | G266: =CONCATENATE(B266, " (", D266, ")") -> Hana Anaka (Windsor Park)
A267: 47 | B267: Julianna Gonzales | C267: 6 | D267: Ellerslie Campus | E267: 11:01.79 | F267: 47 | G267: =CONCATENATE(B267, " (", D267, ")") -> Julianna Gonzales (Ellerslie Campus)
A268: 48 | B268: Habiba AbdAllah | C268: 6 | D268: Westbrook | E268: 11:02.25 | F268: 48 | G268: =CONCATENATE(B268, " (", D268, ")") -> Habiba AbdAllah (Westbrook)
A269: 49 | B269: Olivia McDougall | C269: 6 | D269: Michael A. Kostek | E269: 11:04.08 | F269: 49 | G269: =CONCATENATE(B269, " (", D269, ")") -> Olivia McDougall (Michael A. Kostek)
A270: 50 | B270: Yasmin Abu-Elbasha | C270: 6 | D270: Soraya Hafez | E270: 11:07.02 | F270: 50 | G270: =CONCATENATE(B270, " (", D270, ")") -> Yasmin Abu-Elbasha (Soraya Hafez)
A271: 51 | B271: Haniya Siddiqui | C271: 6 | D271: Centennial | E271: 11:10.47 | F271: 51 | G271: =CONCATENATE(B271, " (", D271, ")") -> Haniya Siddiqui (Centennial)
A272: 52 | B272: Izzy Percy | C272: 6 | D272: LaPerle | E272: 11:10.99 | F272: 52 | G272: =CONCATENATE(B272, " (", D272, ")") -> Izzy Percy (LaPerle)
A273: 53 | B273: Avery Lucy | C273: 6 | D273: Patricia Heights | E273: 11:14.30 | F273: 53 | G273: =CONCATENATE(B273, " (", D273, ")") -> Avery Lucy (Patricia Heights)
A274: 54 | B274: Fotima Razzakova | C274: 6 | D274: Winterburn | E274: 11:17.72 | F274: 54 | G274: =CONCATENATE(B274, " (", D274, ")") -> Fotima Razzakova (Winterburn)
... A397: 177 | B397: Lilly Lund | C397: 6 | D397: Crawford Plains | E397: 18:58.39 | F397: 177 | G397: =CONCATENATE(B397, " (", D397, ")") -> Lilly Lund (Crawford Plains)
A400: Terwillegar Park (September 29) -- Grade 6 Girls 2000m
A401: 1 | B401: Sahaj Kharoud | C401: 6 | D401: George P. Nicholson | E401: 8:22.28 | F401: 1 | G401: =CONCATENATE(B401, " (", D401, ")") -> Sahaj Kharoud (George P. Nicholson)
A402: 2 | B402: Julia Panchuk | C402: 6 | D402: Donnan | E402: 8:22.91 | F402: 2 | G402: =CONCATENATE(B402, " (", D402, ")") -> Julia Panchuk (Donnan)
A403: 3 | B403: Petra Woosley | C403: 6 | D403: Crestwood | E403: 8:24.73 | F403: 3 | G403: =CONCATENATE(B403, " (", D403, ")") -> Petra Woosley (Crestwood)
A404: 4 | B404: Ella Ayon | C404: 6 | D404: Centennial | E404: 8:26.47 | F404: 4 | G404: =CONCATENATE(B404, " (", D404, ")") -> Ella Ayon (Centennial)
A405: 5 | B405: Zoe Ferris | C405: 6 | D405: Centennial | E405: 8:36.42 | F405: 5 | G405: =CONCATENATE(B405, " (", D405, ")") -> Zoe Ferris (Centennial)
A406: 6 | B406: Noor Osman | C406: 6 | D406: Lynnwood | E406: 8:45.39 | F406: 6 | G406: =CONCATENATE(B406, " (", D406, ")") -> Noor Osman (Lynnwood)
A407: 7 | B407: Emma VanWieren | C407: 6 | D407: Edmonton Chr | E407: 8:48.18 | F407: 7 | G407: =CONCATENATE(B407, " (", D407, ")") -> Emma VanWieren (Edmonton Chr)
A408: 8 | B408: Kiera Cody | C408: 6 | D408: Holyrood | E408: 8:50.14 | F408: 8 | G408: =CONCATENATE(B408, " (", D408, ")") -> Kiera Cody (Holyrood)
A409: 9 | B409: Collins Zieba | C409: 6 | D409: Michael A. Kostek | E409: 8:53.80 | F409: 9 | G409: =CONCATENATE(B409, " (", D409, ")") -> Collins Zieba (Michael A. Kostek)
A410: 10 | B410: Myra Bhuraria | C410: 6 | D410: Stratford | E410: 8:59.57 | F410: 10 | G410: =CONCATENATE(B410, " (", D410, ")") -> Myra Bhuraria (Stratford)
A411: 11 | B411: Mabel McClelland | C411: 6 | D411: Crestwood | E411: 9:00.73 | F411: 11 | G411: =CONCATENATE(B411, " (", D411, ")") -> Mabel McClelland (Crestwood)
A412: 12 | B412: Sadie Zarowny | C412: 6 | D412: George H. Luck | E412: 9:04.74 | F412: 12 | G412: =CONCATENATE(B412, " (", D412, ")") -> Sadie Zarowny (George H. Luck)
... A601: 201 | B601: Hafsah Suleman | C601: 6 | D601: Crawford Plains | E601: 18:38.69 | F601: 201 | G601: =CONCATENATE(B601, " (", D601, ")") -> Hafsah Suleman (Crawford Plains)

Sheet Grade 6 Boys
A1: 2026 Edmonton Harriers Cross-Country Series
A2: Rank in Place | B2: Name | C2: Grade | D2: Team | E2: Time | F2: Points | G2: Athlete-School
A3: Mill Woods Park (September 16) -- Grade 6 Boys 1800m
A4: 1 | B4: Baxter Fowler | C4: 6 | D4: George H. Luck | E4: 6:36.48 | F4: 1 | G4: =CONCATENATE(B4, " (", D4, ")") -> Baxter Fowler (George H. Luck)
A5: 2 | B5: Wes de Waal | C5: 6 | D5: Unattached | E5: 6:44.09 | F5: 2 | G5: =CONCATENATE(B5, " (", D5, ")") -> Wes de Waal (Unattached)
A6: 3 | B6: Ben Newton | C6: 6 | D6: Patricia Heights | E6: 6:58.31 | F6: 3 | G6: =CONCATENATE(B6, " (", D6, ")") -> Ben Newton (Patricia Heights)
A7: 4 | B7: Cohen Turgeon | C7: 6 | D7: Brookside | E7: 6:59.42 | F7: 4 | G7: =CONCATENATE(B7, " (", D7, ")") -> Cohen Turgeon (Brookside)
A8: 5 | B8: Jack Mather | C8: 6 | D8: Laurier Heights | E8: 6:59.75 | F8: 5 | G8: =CONCATENATE(B8, " (", D8, ")") -> Jack Mather (Laurier Heights)
A9: 6 | B9: Deacon McEwan | C9: 6 | D9: George P. Nicholson | E9: 7:01.77 | F9: 6 | G9: =CONCATENATE(B9, " (", D9, ")") -> Deacon McEwan (George P. Nicholson)
A10: 7 | B10: Joel Blair | C10: 6 | D10: Roberta MacAdams | E10: 7:02.10 | F10: 7 | G10: =CONCATENATE(B10, " (", D10, ")") -> Joel Blair (Roberta MacAdams)
A11: 8 | B11: Riley Kautz | C11: 6 | D11: Johnny Bright | E11: 7:02.76 | F11: 8 | G11: =CONCATENATE(B11, " (", D11, ")") -> Riley Kautz (Johnny Bright)
A12: 9 | B12: Sahib Kharoud | C12: 6 | D12: George P. Nicholson | E12: 7:03.61 | F12: 9 | G12: =CONCATENATE(B12, " (", D12, ")") -> Sahib Kharoud (George P. Nicholson)
A13: 10 | B13: Charles Mao | C13: 6 | D13: Windsor Park | E13: 7:10.68 | F13: 10 | G13: =CONCATENATE(B13, " (", D13, ")") -> Charles Mao (Windsor Park)
A14: 11 | B14: Alessio Bit | C14: 6 | D14: Crestwood | E14: 7:14.71 | F14: 11 | G14: =CONCATENATE(B14, " (", D14, ")") -> Alessio Bit (Crestwood)
A15: 12 | B15: Ruairi Lennox | C15: 6 | D15: Virginia Park | E15: 7:18.19 | F15: 12 | G15: =CONCATENATE(B15, " (", D15, ")") -> Ruairi Lennox (Virginia Park)
... A199: 196 | B199: Leland Cardwell | C199: 6 | D199: Forest Heights | E199: 17:37.25 | F199: 196 | G199: =CONCATENATE(B199, " (", D199, ")") -> Leland Cardwell (Forest Heights)
A202: Rundle Park (September 23) -- Grade 6 Boys 2100m
A203: 1 | B203: Baxter Fowler | C203: 6 | D203: George H. Luck | E203: 7:50.82 | F203: 1 | G203: =CONCATENATE(B203, " (", D203, ")") -> Baxter Fowler (George H. Luck)
A204: 2 | B204: Wes de Waal | C204: 6 | D204: Unattached | E204: 7:59.68 | F204: 2 | G204: =CONCATENATE(B204, " (", D204, ")") -> Wes de Waal (Unattached)
A205: 3 | B205: Ben Newton | C205: 6 | D205: Patricia Heights | E205: 8:11.03 | F205: 3 | G205: =CONCATENATE(B205, " (", D205, ")") -> Ben Newton (Patricia Heights)
A206: 4 | B206: Riley Kautz | C206: 6 | D206: Johnny Bright | E206: 8:15.96 | F206: 4 | G206: =CONCATENATE(B206, " (", D206, ")") -> Riley Kautz (Johnny Bright)
A207: 5 | B207: Isaac Ogbay | C207: 6 | D207: Wîhkwêntôwin | E207: 8:16.99 | F207: 5 | G207: =CONCATENATE(B207, " (", D207, ")") -> Isaac Ogbay (Wîhkwêntôwin)
A208: 6 | B208: Jack Mather | C208: 6 | D208: Laurier Heights | E208: 8:17.69 | F208: 6 | G208: =CONCATENATE(B208, " (", D208, ")") -> Jack Mather (Laurier Heights)
A209: 7 | B209: Wyatt Zarowny | C209: 6 | D209: Donnan | E209: 8:19.47 | F209: 7 | G209: =CONCATENATE(B209, " (", D209, ")") -> Wyatt Zarowny (Donnan)
A210: 8 | B210: Joel Blair | C210: 6 | D210: Roberta MacAdams | E210: 8:29.81 | F210: 8 | G210: =CONCATENATE(B210, " (", D210, ")") -> Joel Blair (Roberta MacAdams)
A211: 9 | B211: Alessio Bit | C211: 6 | D211: Crestwood | E211: 8:33.51 | F211: 9 | G211: =CONCATENATE(B211, " (", D211, ")") -> Alessio Bit (Crestwood)
A212: 10 | B212: Ruairi Lennox | C212: 6 | D212: Virginia Park | E212: 8:42.10 | F212: 10 | G212: =CONCATENATE(B212, " (", D212, ")") -> Ruairi Lennox (Virginia Park)
A213: 11 | B213: Sahib Kharoud | C213: 6 | D213: George P. Nicholson | E213: 8:43.94 | F213: 11 | G213: =CONCATENATE(B213, " (", D213, ")") -> Sahib Kharoud (George P. Nicholson)
A214: 12 | B214: Tyson Brennan | C214: 6 | D214: Steinhauer | E214: 8:46.16 | F214: 12 | G214: =CONCATENATE(B214, " (", D214, ")") -> Tyson Brennan (Steinhauer)
... A371: 169 | B371: Elijah Scherba | C371: 6 | D371: Homesteader | E371: 16:52.00 | F371: 169 | G371: =CONCATENATE(B371, " (", D371, ")") -> Elijah Scherba (Homesteader)
A374: Terwillegar Park (September 29) -- Grade 6 Boys 2000m
A375: 1 | B375: Baxter Fowler | C375: 6 | D375: George H. Luck | E375: 7:24.99 | F375: 1 | G375: =CONCATENATE(B375, " (", D375, ")") -> Baxter Fowler (George H. Luck)
A376: 2 | B376: Wes de Waal | C376: 6 | D376: Unattached | E376: 7:39.48 | F376: 2 | G376: =CONCATENATE(B376, " (", D376, ")") -> Wes de Waal (Unattached)
A377: 3 | B377: Ben Newton | C377: 6 | D377: Patricia Heights | E377: 7:46.49 | F377: 3 | G377: =CONCATENATE(B377, " (", D377, ")") -> Ben Newton (Patricia Heights)
A378: 4 | B378: Riley Kautz | C378: 6 | D378: Johnny Bright | E378: 7:47.63 | F378: 4 | G378: =CONCATENATE(B378, " (", D378, ")") -> Riley Kautz (Johnny Bright)
A379: 5 | B379: Jack Mather | C379: 6 | D379: Laurier Heights | E379: 7:50.06 | F379: 5 | G379: =CONCATENATE(B379, " (", D379, ")") -> Jack Mather (Laurier Heights)
A380: 6 | B380: Wyatt Zarowny | C380: 6 | D380: Donnan | E380: 7:57.05 | F380: 6 | G380: =CONCATENATE(B380, " (", D380, ")") -> Wyatt Zarowny (Donnan)
A381: 7 | B381: Isaac Ogbay | C381: 6 | D381: Wîhkwêntôwin | E381: 7:58.16 | F381: 7 | G381: =CONCATENATE(B381, " (", D381, ")") -> Isaac Ogbay (Wîhkwêntôwin)
A382: 8 | B382: Charles Mao | C382: 6 | D382: Windsor Park | E382: 7:58.66 | F382: 8 | G382: =CONCATENATE(B382, " (", D382, ")") -> Charles Mao (Windsor Park)
A383: 9 | B383: Sahib Kharoud | C383: 6 | D383: George P. Nicholson | E383: 7:59.63 | F383: 9 | G383: =CONCATENATE(B383, " (", D383, ")") -> Sahib Kharoud (George P. Nicholson)
A384: 10 | B384: Jaxson Presisniuk | C384: 6 | D384: Donnan | E384: 8:04.52 | F384: 10 | G384: =CONCATENATE(B384, " (", D384, ")") -> Jaxson Presisniuk (Donnan)
A385: 11 | B385: Cohen Turgeon | C385: 6 | D385: Brookside | E385: 8:07.31 | F385: 11 | G385: =CONCATENATE(B385, " (", D385, ")") -> Cohen Turgeon (Brookside)
A386: 12 | B386: Joel Blair | C386: 6 | D386: Roberta MacAdams | E386: 8:08.95 | F386: 12 | G386: =CONCATENATE(B386, " (", D386, ")") -> Joel Blair (Roberta MacAdams)
... A565: 191 | B565: Omar Hashi | C565: 6 | D565: Lorelei | E565: 17:47.63 | F565: 191 | G565: =CONCATENATE(B565, " (", D565, ")") -> Omar Hashi (Lorelei)
